BEGIN:VCALENDAR
VERSION:2.0
PRODID:ocbreakers.exploreoc.com
X-WR-CALNAME:$30 ~ 3 Course Meal at The Lobster Shanty
BEGIN:VEVENT
UID:6722026-04-232026-04-23
DTSTART:20260423T200000Z
SEQUENCE:0
TRANSP:OPAQUE
DTEND:20260423T200000Z
LOCATION:37310 Lighthouse Road\nFenwick Isle DE 19944
X-APPLE-STRUCTURED-LOCATION;VALUE=URI;X-ADDRESS=37310 Lighthouse Road\nFenw
 ick Isle DE 19944;X-APPLE-RADIUS=49;X-TITLE=37310 Lighthouse Road:geo:38.4
 60766,-75.078728
GEO:38.460766;-75.078728
SUMMARY:$30 ~ 3 Course Meal at The Lobster Shanty
CLASS:PUBLIC
DESCRIPTION:TODAY'S SPRING OFF-SEASON SPECIAL:\n\nWEDNESDAY\, THURSDAY\, AN
 D SUNDAY\n\n * $30 for a 3 Course Meal \n\n
X-ALT-DESC;FMTTYPE=text/html:<p><strong>Today&#39\;s Spring Off-Season Spec
 ial:</strong><br />\n<br />\n<strong>Wednesday\, Thursday\, and Sunday</st
 rong></p>\n\n<ul>\n<li>$30 for a 3 Course Meal&nbsp\;</li>\n</ul>
DTSTAMP:20260425T101729Z
END:VEVENT
BEGIN:VEVENT
UID:6722026-04-262026-04-26
DTSTART:20260426T200000Z
SEQUENCE:0
TRANSP:OPAQUE
DTEND:20260426T200000Z
LOCATION:37310 Lighthouse Road\nFenwick Isle DE 19944
X-APPLE-STRUCTURED-LOCATION;VALUE=URI;X-ADDRESS=37310 Lighthouse Road\nFenw
 ick Isle DE 19944;X-APPLE-RADIUS=49;X-TITLE=37310 Lighthouse Road:geo:38.4
 60766,-75.078728
GEO:38.460766;-75.078728
SUMMARY:$30 ~ 3 Course Meal at The Lobster Shanty
CLASS:PUBLIC
DESCRIPTION:TODAY'S SPRING OFF-SEASON SPECIAL:\n\nWEDNESDAY\, THURSDAY\, AN
 D SUNDAY\n\n * $30 for a 3 Course Meal \n\n
X-ALT-DESC;FMTTYPE=text/html:<p><strong>Today&#39\;s Spring Off-Season Spec
 ial:</strong><br />\n<br />\n<strong>Wednesday\, Thursday\, and Sunday</st
 rong></p>\n\n<ul>\n<li>$30 for a 3 Course Meal&nbsp\;</li>\n</ul>
DTSTAMP:20260425T101729Z
END:VEVENT
BEGIN:VEVENT
UID:6722026-04-292026-04-29
DTSTART:20260429T200000Z
SEQUENCE:0
TRANSP:OPAQUE
DTEND:20260429T200000Z
LOCATION:37310 Lighthouse Road\nFenwick Isle DE 19944
X-APPLE-STRUCTURED-LOCATION;VALUE=URI;X-ADDRESS=37310 Lighthouse Road\nFenw
 ick Isle DE 19944;X-APPLE-RADIUS=49;X-TITLE=37310 Lighthouse Road:geo:38.4
 60766,-75.078728
GEO:38.460766;-75.078728
SUMMARY:$30 ~ 3 Course Meal at The Lobster Shanty
CLASS:PUBLIC
DESCRIPTION:TODAY'S SPRING OFF-SEASON SPECIAL:\n\nWEDNESDAY\, THURSDAY\, AN
 D SUNDAY\n\n * $30 for a 3 Course Meal \n\n
X-ALT-DESC;FMTTYPE=text/html:<p><strong>Today&#39\;s Spring Off-Season Spec
 ial:</strong><br />\n<br />\n<strong>Wednesday\, Thursday\, and Sunday</st
 rong></p>\n\n<ul>\n<li>$30 for a 3 Course Meal&nbsp\;</li>\n</ul>
DTSTAMP:20260425T101729Z
END:VEVENT
BEGIN:VEVENT
UID:6722026-04-302026-04-30
DTSTART:20260430T200000Z
SEQUENCE:0
TRANSP:OPAQUE
DTEND:20260430T200000Z
LOCATION:37310 Lighthouse Road\nFenwick Isle DE 19944
X-APPLE-STRUCTURED-LOCATION;VALUE=URI;X-ADDRESS=37310 Lighthouse Road\nFenw
 ick Isle DE 19944;X-APPLE-RADIUS=49;X-TITLE=37310 Lighthouse Road:geo:38.4
 60766,-75.078728
GEO:38.460766;-75.078728
SUMMARY:$30 ~ 3 Course Meal at The Lobster Shanty
CLASS:PUBLIC
DESCRIPTION:TODAY'S SPRING OFF-SEASON SPECIAL:\n\nWEDNESDAY\, THURSDAY\, AN
 D SUNDAY\n\n * $30 for a 3 Course Meal \n\n
X-ALT-DESC;FMTTYPE=text/html:<p><strong>Today&#39\;s Spring Off-Season Spec
 ial:</strong><br />\n<br />\n<strong>Wednesday\, Thursday\, and Sunday</st
 rong></p>\n\n<ul>\n<li>$30 for a 3 Course Meal&nbsp\;</li>\n</ul>
DTSTAMP:20260425T101729Z
END:VEVENT
END:VCALENDAR